BEGIN:VCALENDAR
VERSION:2.0
PRODID:-//The Felt Studio - ECPv6.15.20//NONSGML v1.0//EN
CALSCALE:GREGORIAN
METHOD:PUBLISH
X-WR-CALNAME:The Felt Studio
X-ORIGINAL-URL:https://wendybailye.com
X-WR-CALDESC:Events for The Felt Studio
REFRESH-INTERVAL;VALUE=DURATION:PT1H
X-Robots-Tag:noindex
X-PUBLISHED-TTL:PT1H
BEGIN:VTIMEZONE
TZID:UTC
BEGIN:STANDARD
TZOFFSETFROM:+0000
TZOFFSETTO:+0000
TZNAME:UTC
DTSTART:20210101T000000
END:STANDARD
END:VTIMEZONE
BEGIN:VTIMEZONE
TZID:Australia/Melbourne
BEGIN:STANDARD
TZOFFSETFROM:+1100
TZOFFSETTO:+1000
TZNAME:AEST
DTSTART:20210403T160000
END:STANDARD
BEGIN:DAYLIGHT
TZOFFSETFROM:+1000
TZOFFSETTO:+1100
TZNAME:AEDT
DTSTART:20211002T160000
END:DAYLIGHT
BEGIN:STANDARD
TZOFFSETFROM:+1100
TZOFFSETTO:+1000
TZNAME:AEST
DTSTART:20220402T160000
END:STANDARD
BEGIN:DAYLIGHT
TZOFFSETFROM:+1000
TZOFFSETTO:+1100
TZNAME:AEDT
DTSTART:20221001T160000
END:DAYLIGHT
BEGIN:STANDARD
TZOFFSETFROM:+1100
TZOFFSETTO:+1000
TZNAME:AEST
DTSTART:20230401T160000
END:STANDARD
BEGIN:DAYLIGHT
TZOFFSETFROM:+1000
TZOFFSETTO:+1100
TZNAME:AEDT
DTSTART:20230930T160000
END:DAYLIGHT
BEGIN:STANDARD
TZOFFSETFROM:+1100
TZOFFSETTO:+1000
TZNAME:AEST
DTSTART:20240406T160000
END:STANDARD
BEGIN:DAYLIGHT
TZOFFSETFROM:+1000
TZOFFSETTO:+1100
TZNAME:AEDT
DTSTART:20241005T160000
END:DAYLIGHT
END:VTIMEZONE
BEGIN:VEVENT
DTSTART;TZID=UTC:20260210T080000
DTEND;TZID=UTC:20260210T170000
DTSTAMP:20260423T222046
CREATED:20260211T012220Z
LAST-MODIFIED:20260211T012220Z
UID:13278-1770710400-1770742800@wendybailye.com
SUMMARY:Textures and Patterns in Nature Online class Starts March 1st 2026
DESCRIPTION:I am thrilled to be offering a new season of this class. It will run from 1st March 2026 for 6 weeks. It is full of fabulous techniques\, has lifetime access and we have a wonderful group gathering from around the world to be part of the class. Here is the link
URL:https://wendybailye.com/event/textures-and-patterns-in-nature-online-class-starts-march-1st-2026/
END:VEVENT
BEGIN:VEVENT
DTSTART;VALUE=DATE:20251126
DTEND;VALUE=DATE:20251210
DTSTAMP:20260423T222046
CREATED:20251012T104620Z
LAST-MODIFIED:20251012T110108Z
UID:13204-1764115200-1765324799@wendybailye.com
SUMMARY:Wild Things Exhibition and Gallery Shop
DESCRIPTION:WILD THINGS EXHIBITION AND GALLERY SHOP\nOur annual Wild Things Exhibition is on again this year. November 26th to December 9th. Open daily 10 am to 4 pm. On our last day\, the 9th\, we will close at 1:00 p.m. Look forward to sharing our work with you.
URL:https://wendybailye.com/event/13204/
LOCATION:Richard Randall Art Studio\, Richard Randall Art Studio\, Brisbane Botanical Gardens\, Mt Coot-tha
ORGANIZER;CN="Wendy Bailye":MAILTO:wendy@wendybailye.com
END:VEVENT
BEGIN:VEVENT
DTSTART;TZID=UTC:20240622T083000
DTEND;TZID=UTC:20240622T103000
DTSTAMP:20260423T222046
CREATED:20240501T102327Z
LAST-MODIFIED:20240501T104621Z
UID:13019-1719045000-1719052200@wendybailye.com
SUMMARY:Felting Workshop -Felt Jewellery Making
DESCRIPTION:Learn the skills to make a variety of felt balls and beads for jewellery making in this creative workshop with international felt tutor Wendy Bailye. You will make a pair of earings and a brooch. \n12 years and over\, easy access\, Maximum 8 participants \nProvided – All materials \nTo bring- Your Creativity \nThere will be enough materials to make extra  jewellery at home and a video link will be provided for instructions to use after class \n  \n.
URL:https://wendybailye.com/event/felting-workshop-felt-jewellery-making/
LOCATION:the felt studio\, 50\, Samford\, QLD\, 4520\, Australia
ATTACH;FMTTYPE=image/jpeg:https://wendybailye.com/wp-content/uploads/2024/05/20240501_125139-scaled.jpg
END:VEVENT
BEGIN:VEVENT
DTSTART;TZID=UTC:20240615T083000
DTEND;TZID=UTC:20240615T103000
DTSTAMP:20260423T222046
CREATED:20240501T103231Z
LAST-MODIFIED:20240501T103509Z
UID:13024-1718440200-1718447400@wendybailye.com
SUMMARY:Felting Workshop-Make Felt Flowers
DESCRIPTION:Learn the skills to make a variety of felt flowers using silk and wool in this creative workshop with international felt maker Wendy Bailye. \n12 years and over\, easy access\, maximum 8 participants. \nSupplied- All materials \nTo bring – Your Creativity!  \nExtra materials are included in your kit and a video link so you can make more at home
URL:https://wendybailye.com/event/felting-workshop-makefelt-flowers/
LOCATION:the felt studio\, 50\, Samford\, QLD\, 4520\, Australia
ATTACH;FMTTYPE=image/jpeg:https://wendybailye.com/wp-content/uploads/2024/05/WendyBailye_Flowersworkshop3.jpg
END:VEVENT
BEGIN:VEVENT
DTSTART;TZID=UTC:20240608T083000
DTEND;TZID=UTC:20240608T103000
DTSTAMP:20260423T222046
CREATED:20240501T102756Z
LAST-MODIFIED:20240501T104103Z
UID:13022-1717835400-1717842600@wendybailye.com
SUMMARY:Felting Workshop Make a Felted Mushroom Sculpture
DESCRIPTION:Learn skills to create a small mushroom sculpture using wool fibre and embellishments with international felt-making tutor Wendy Bailye. 12 years and over\, easy access\, maximum 8 participants. Your kit will have enough wool to make a second sculpture at home and a link for a video lesson as well! \nSupplied – All materials \nTo bring – Just your creativity!
URL:https://wendybailye.com/event/felting-workshop-make-a-felted-mushroom-sculpture/
LOCATION:the felt studio\, 50\, Samford\, QLD\, 4520\, Australia
ATTACH;FMTTYPE=image/jpeg:https://wendybailye.com/wp-content/uploads/2024/05/WendyBailye_Mushroom-workshop-2-scaled.jpg
END:VEVENT
BEGIN:VEVENT
DTSTART;TZID=UTC:20240601T083000
DTEND;TZID=UTC:20240601T103000
DTSTAMP:20260423T222046
CREATED:20240501T101502Z
LAST-MODIFIED:20240501T104425Z
UID:13009-1717230600-1717237800@wendybailye.com
SUMMARY:Felt Making Workshop Make a Felt Pod
DESCRIPTION:Make a 3D textured felt pot with fibre decoration. Learn the basic skills needed to work in 3D with this marvellous medium with international felt making tutor Wendy Bailye. 12 years and over\, easy access\, maximum 8 participants. \nSupplied – All materials supplied and a take-home video link of the technique\, you will have materials to make another pod at home \nTo bring: Nothing but your creativity
URL:https://wendybailye.com/event/felt-making-workshop-make-a-felt-pod/
LOCATION:the felt studio\, 50\, Samford\, QLD\, 4520\, Australia
ATTACH;FMTTYPE=image/jpeg:https://wendybailye.com/wp-content/uploads/2024/05/WendyBailye_Felt-Bowls_Workshop1-scaled.jpg
END:VEVENT
BEGIN:VEVENT
DTSTART;VALUE=DATE:20240601
DTEND;VALUE=DATE:20240602
DTSTAMP:20260423T222046
CREATED:20240310T025413Z
LAST-MODIFIED:20240310T030757Z
UID:12963-1717200000-1717286399@wendybailye.com
SUMMARY:Samford and Surrounds Art Trail and Open Studio's 2024 Weekends June 1st to June 23rd
DESCRIPTION:Our Samford and Surrounds Arts Trail and Open Studio event is coming up. \nThe Arts Trail begins on the 1st June 2024 and runs until the 23rd June. \nEach weekend we have a wonderful line-up of studios to visit and artists to meet. Some studios will also be running workshops. My studio will have a workshop each Saturday morning from 8.30 AM to 10.30AM \n  \nYou might like to connect with these pages to read more about the trails and Creative Samford: \nCreative Samford Inc. Facebook page: \nhttps://www.facebook.com/CreativeSamford/ \nCreative Samford Community Facebook group: \nhttps://www.facebook.com/groups/237610310764417 \nCreative Samford Instagram: \nhttps://www.instagram.com/creativesamford/
URL:https://wendybailye.com/event/samford-and-surrounds-art-trail-and-open-studios-2024/
LOCATION:the felt studio\, 50\, Samford\, QLD\, 4520\, Australia
ORGANIZER;CN="Creative Samford":MAILTO:trails@creativesamford.com
END:VEVENT
BEGIN:VEVENT
DTSTART;TZID=Australia/Melbourne:20231118T093000
DTEND;TZID=Australia/Melbourne:20231203T160000
DTSTAMP:20260423T222046
CREATED:20230519T014849Z
LAST-MODIFIED:20231103T033319Z
UID:12679-1700299800-1701619200@wendybailye.com
SUMMARY:WILD THINGS EXHIBITION 2023
DESCRIPTION:  \n  \n \nSharyn and Wendy would love you to join them once again this November for a fabulous experience– the highly anticipated 15th annual Wild Things exhibition! As seasoned artists in the contemporary textile movement\, both Sharyn Hall and Wendy  Bailye have gained recognition for their craftsmanship and experience in their chosen fields. Sharyn specializes in fabric surface design\, silver jewellery and mixed media\, while Wendy has established herself as a  feltmaker and textile artist\, both have taught their art at an international level. \nWild Things is a captivating fusion of an exquisite art exhibition and an irresistible pop-up shop.\nExplore a curated collection of contemporary textiles\, jewelry\, and art that will ignite your imagination. Our gallery shop offers exclusive and one-of-a-kind pieces that creative and unique.  Each item is meticulously handcrafted\, emphasizing the use of natural materials\, and exudes an unrivaled individuality that cannot be replicated. With a contemporary twist\, you’ll discover a diverse range of breathtaking wearables\, accessories\, homewares\, wall art\, handcrafted jewelry\, cards\, art journals\, and more. They each employ a multitude of techniques such as hand printing\, painting\, felting\, stitching\, dyeing\, printing\, forging\, painting\, texturing\, and embellishment to bring their unique visions to life\, utilizing silk\, cotton\, wool\, metal\, wood\, paper\, and other fascinating mediums. \nCelebrating its impressive 15th year\, this exhibition is an absolute must-see. Immerse yourself in the enchanting world of textile art\, where every piece tells a story and invites you to engage with it on a tactile level. Mark your calendars and prepare to discover exquisite gifts that will delight your loved ones. Don’t miss this opportunity to connect with their art and hopefully\, the works will resonate with you and make your Christmas shopping a joy! \n18th November to 3rd December 2023 \nRichard Randall Art Studio\, Mount Coot-tha Botanic Gardens\, 152 Mount Coot-Tha Rd\, Mount Coot-Tha QLD 4066 \nOpen 9:30am – 4pm daily\nEntry is free.
URL:https://wendybailye.com/event/wild-things-exhibition-2023/
LOCATION:Richard Randall Art Studio\, Richard Randall Art Studio\, Brisbane Botanical Gardens\, Mt Coot-tha
ATTACH;FMTTYPE=image/png:https://wendybailye.com/wp-content/uploads/2023/08/FRONT.png
END:VEVENT
BEGIN:VEVENT
DTSTART;VALUE=DATE:20260301
DTEND;VALUE=DATE:20260413
DTSTAMP:20260423T222046
CREATED:20251211T013336Z
LAST-MODIFIED:20260211T013347Z
UID:12822-1772323200-1776038399@wendybailye.com
SUMMARY:Textures and Patterns in Nature- Online Class
DESCRIPTION:Textures and Patterns in Nature March 1st 2026\nOpen now for registration! Click here \nAs feltmakers and textile artists\, we love texture and pattern and of course nature is the consummate designer. In this workshop\, you will learn how to recreate specific textures/ patterns on your felt surface using photographs as your source documents and nature as your reference point. This sampling class will result in a variety of experimental techniques leading to the creation of very unique surface textures. A sampling class is a relaxed and creative way to learn more about feltmaking. So much information and low stress. You will be encouraged to take your own images as source material for your felt work. This class will help you to access creative ways to create your very own textures and patterns referenced from your own area or places you have visited. You will be given a huge range of techniques to choose from and the skills you will need to make your felt interesting and creative. We will work in flat felt and in 3D. The course will cover tips\, tricks\, and tools\, mono-printing\, stenciling\, dyeing\, sculptural work\, texture\, and pattern development techniques and that is just the tip of the iceberg! An introduction to photography apps\, basic cutting technology\, basic dyeing and shibori on felt and fabric. A very personal\, nature-based felt exploration. \n  \n\nEnrolment\, payment\, and registration is open and payment plans will be available (Class formally begins 1st March 2026). Please pop this date in your diary NOW  and keep your eye out for the open class email. I have had a huge interest in this class and spaces are limited.\nI will be sending out a special\, free\, comprehensive work book for all those who register for the class.  This fabulous resource will be full of practical activities and ideas to prepare you for the class. I am so sorry that those of you who were excited to be starting\, have to wait a little longer\,  I promise you will have plenty to keep you motivated and learning whilst preparing for the class.\nCome and enjoy!
URL:https://wendybailye.com/event/textures-and-patterns-in-nature-online-class/
ATTACH;FMTTYPE=image/jpeg:https://wendybailye.com/wp-content/uploads/2026/02/3-online-classes-Photo-Collage-Instagram-Post-1.jpg
ORGANIZER;CN="Wendy Bailye":MAILTO:wendy@wendybailye.com
END:VEVENT
BEGIN:VEVENT
DTSTART;VALUE=DATE:20240801
DTEND;VALUE=DATE:20240909
DTSTAMP:20260423T222046
CREATED:20221201T223624Z
LAST-MODIFIED:20240616T065002Z
UID:12486-1722470400-1725839999@wendybailye.com
SUMMARY:Online Class 50 Shades of Grey\, Felt! August 1st 2024
DESCRIPTION:My online class 50 Shades of Grey\, Felt! is open for registration 16/06/2024 and begins on the 1st August 2024 \nSpaces are limited! \nWords from one of my past students: \n“I’ve always appreciated the sampling done in workshops\, but now this class has turned me into a dedicated sampler. I’m always happier exploring than planning (fewer expectations that way\, I suppose) and can beat myself up sometimes about being too excited about an idea to think it through properly. It’s increasingly clear though that with more grounding in good technique\, the better the making goes” \n“For a while now I’ve been moving away from using heat and aggressive handling toward the end of fulling\, and this class has confirmed that. It’s remarkable how much more pleasing my finished felt is\, and how easily it comes together\, with cold water and simple rolling alone. And now the process is even more calming for me as well as the felt. Thank you for that reassurance\, and for the immense amount of work and information you have put into this course. It will be an invaluable lifelong resource for me”. L.M
URL:https://wendybailye.com/event/online-class-50-shades-of-grey-felt-july-17th-2023/
ATTACH;FMTTYPE=image/jpeg:https://wendybailye.com/wp-content/uploads/2022/12/1-2.jpg
END:VEVENT
BEGIN:VEVENT
DTSTART;VALUE=DATE:20230613
DTEND;VALUE=DATE:20230718
DTSTAMP:20260423T222046
CREATED:20230613T222905Z
LAST-MODIFIED:20230613T223256Z
UID:12714-1686614400-1689638399@wendybailye.com
SUMMARY:Registration open 50 Shades of grey\,felt! Online class
DESCRIPTION:My 50 Shades of Grey\, Felt! class has just opened for registration and the class begins on the 17th July 2023. \nI’m very excited to be re-launching my third online course round of 50 Shades of Grey\, Felt! My students’ feedback has been very humbling and reminds me of why I do what I do. I want to help people make innovative\, technically sound felt and encourage them to develop their innate creativity. This course is designed to help you focus on process and technique\, by limiting the colour palette to black and white.Makes life simple and also saves money when you are learning! \n– Have you always wanted to make unique felt\, full of character and beautiful textures?\n– Have you wondered how to make felt that is technically sound and interesting?\n– Have you wondered how to use recycled fabrics and fibres you have in your stash?\n– Would you like to learn to harness and develop your creativity? \nIf so\, then this is the class for you. \nABOUT THE CLASS \nENROLL \n 
URL:https://wendybailye.com/event/registration-open-50-shades-of-greyfelt-online-class/
END:VEVENT
BEGIN:VEVENT
DTSTART;VALUE=DATE:20230601
DTEND;VALUE=DATE:20230626
DTSTAMP:20260423T222046
CREATED:20230520T004844Z
LAST-MODIFIED:20230520T005503Z
UID:12688-1685577600-1687737599@wendybailye.com
SUMMARY:Samford and Surrounds Arts Trail 2023
DESCRIPTION:Creative Samford is excited to present the Samford and Surrounds ArtsTrails 2023. Every weekend in June\, artisans will open their studios and venues for visitors to view and purchase unique\, handmade\, stunning works of art and crafts. \nMy studio will be open every weekend in June as part of the Arts Trail\, which is one of my favourite local events. Each piece of work I make has a story and I love to share these stories with visitors\, and talk about how pieces are made. You can also purchase your favourite piece\, or a special gift for a special someone while you’re here. \nI would love you to come and visit. \nThe beautiful studio guide book showing where and when to find the artisans is available now at the Slab Hut in John Scott Park in Samford or view the booklet online here. \nCreative Samford is working to bring artists together for the common good of Samford and surrounds creative community. We want to make the arts visible and see Samford and surrounds become renowned as a creative place to visit\, do business in and live.
URL:https://wendybailye.com/event/samford-and-surrounds-arts-trail-2023/
ATTACH;FMTTYPE=image/jpeg:https://wendybailye.com/wp-content/uploads/2023/04/Wendy-Bailye-3.jpg
ORGANIZER;CN="Creative Samford":MAILTO:trails@creativesamford.com
END:VEVENT
BEGIN:VEVENT
DTSTART;TZID=UTC:20230503T090000
DTEND;TZID=UTC:20230514T160000
DTSTAMP:20260423T222046
CREATED:20221219T075316Z
LAST-MODIFIED:20230321T051324Z
UID:12530-1683104400-1684080000@wendybailye.com
SUMMARY:Winter Wild Things 2023
DESCRIPTION:  \n  \nJoin Sharyn Hall and Wendy Bailye\, for our yearly exhibition at Richard Randall Art Studio\, Mt Coot-tha Botanical Gardens. 2023 will see us create our 15th Exhibition of Wild Things! Join us to celebrate our 15th yearly exhibition at this historic venue. \nEnjoy our wonderful exhibition and also our gallery shop. We are so excited to be planning this event together again.  Pop the dates in the diary now so you don’t miss out! 9am till 4pm daily November 18 to Dec 3rd 2023 \n \n  \n  \n  \n 
URL:https://wendybailye.com/event/winter-wild-things-2023/
LOCATION:Richard Randall Art Studio\, Richard Randall Art Studio\, Brisbane Botanical Gardens\, Mt Coot-tha
ORGANIZER;CN="Wendy Bailye":MAILTO:wendy@wendybailye.com
END:VEVENT
BEGIN:VEVENT
DTSTART;VALUE=DATE:20230114
DTEND;VALUE=DATE:20230115
DTSTAMP:20260423T222046
CREATED:20221207T194657Z
LAST-MODIFIED:20221219T074107Z
UID:12508-1673654400-1673740799@wendybailye.com
SUMMARY:Once In A Lifetime Studio Destash/Garage Sale
DESCRIPTION:  \n\nHaving run a teaching studio for decades it is time to clear out. Help me zen my studio space to make way for my new work! Sewing machines\, eyelet setting machine\, new unused embellisher\, jewellery making tools and supplies\, beads\, woolen blanket collection\, filet lace collection\, felting scraps\, silk fabrics\, linen fabrics\, fibres such as alpaca and mohair\, optim wool\, silk wool blends\, a few antique textiles. Wool tops\, bumps of natural wool. Silk threads and yarns. Frames and canvases\, trestle tables with raisers. Fancy yarns for felting. Piles and piles of wool scraps and partial felt scraps\, display items. Dyes and dyeing equipment.Lots of high-quality new and used textile books. Embroidery threads. \nSATURDAY JANUARY 14th 2022 7am start (Not earlier!) \n50 Mcdowalls Rd Yugar\, QLD (near Samford) \nCredit card facility available! \nwww.wendybailye.com for details Facebook: go to The Felt Studio and Wendy Bailye for images of items for sale. They will be posted on January 10th\, not before!
URL:https://wendybailye.com/event/once-in-a-lifetime-studio-destash/
LOCATION:the felt studio\, 50\, Samford\, QLD\, 4520\, Australia
END:VEVENT
BEGIN:VEVENT
DTSTART;TZID=UTC:20221207T090000
DTEND;TZID=UTC:20221218T160000
DTSTAMP:20260423T222046
CREATED:20210722T164729Z
LAST-MODIFIED:20221201T221808Z
UID:8525-1670403600-1671379200@wendybailye.com
SUMMARY:WILD THINGS EXHIBITION 2022
DESCRIPTION:Our annual Wild Things exhibition will be on again in December 2022! Be inspired by this unique exhibition and gallery shop of exclusive contemporary textiles\, jewellery\, and art. Click the link here for more details. \nCOVID protocols will be in place where required. \nDecember 7-18\, 2022 \nRichard Randall Art Studio\, Mount Coot-tha Botanic Gardens\, 152 Mount Coot-Tha Rd\, Mount Coot-Tha QLD 4066 \nOpen 9am – 4pm daily\nEntry is free
URL:https://wendybailye.com/event/wild-things-2022/
LOCATION:Richard Randall Art Studio\, Richard Randall Art Studio\, Brisbane Botanical Gardens\, Mt Coot-tha
ATTACH;FMTTYPE=image/jpeg:https://wendybailye.com/wp-content/uploads/2022/11/FRONT-2.jpg
END:VEVENT
BEGIN:VEVENT
DTSTART;TZID=Australia/Melbourne:20220816T100000
DTEND;TZID=Australia/Melbourne:20220916T140000
DTSTAMP:20260423T222046
CREATED:20220321T083621Z
LAST-MODIFIED:20220321T085604Z
UID:11704-1660644000-1663336800@wendybailye.com
SUMMARY:The Sanctuary of Meraki
DESCRIPTION:Sharyn Hall and Wendy Bailye  \nThe Sanctuary of Meraki: (may-rah-kee) (adj): to put something of yourself into your work. \nThis joint exhibition\, by Brisbane based textile artists Sharyn Hall and Wendy Bailye\, has allowed each artist to delve into the essence of their creativity. \nReferencing their individual personal narratives\, they have constructed a body of work\, through joint conversations and individual explorations\, finding sanctuary in their creative practice. These imaginative works explore the textures\, colours and patterns of the natural and botanical worlds\, and bring to life stories and images from personal journeys and travels. \nThe individual art practices of these artists have created an exotic environment where the viewer is drawn into a world of inspiration and creativity – the Sanctuary of Meraki. \n  \nTuesday to Friday 10am – 2pm \nSaturday 10am – 1pm \nCLOSED ON SUNDAYS AND MONDAYS \n 
URL:https://wendybailye.com/event/the-sanctuary-of-meraki/
LOCATION:Texas Regional Gallery\, 46 High Street\, TEXAS\, Queensland\, 4385\, Australia
END:VEVENT
BEGIN:VEVENT
DTSTART;VALUE=DATE:20220601
DTEND;VALUE=DATE:20220627
DTSTAMP:20260423T222046
CREATED:20220514T120533Z
LAST-MODIFIED:20220516T010609Z
UID:11759-1654041600-1656287999@wendybailye.com
SUMMARY:Samford and Surrounds Arts Trail 2022
DESCRIPTION:OPEN STUDIO AND ARTS TRAIL\nCreative Samford is excited to present the Samford and Surrounds ArtsTrails 2022. Every weekend in June\, artisans will open their studios and venues for visitors to view and purchase unique\, handmade\, stunning works of art and crafts. \nMy studio will be open every weekend in June as part of the Arts Trail\, which is one of my favourite local events. Each piece of work I make has a story and I love to share these stories with visitors\, and talk about how pieces are made. You can also purchase your favourite piece\, or a special gift for a special someone while you’re here. \nI would love you to come and visit. \nThe beautiful Trails book showing where and when to find the artisans is available now at the Slab Hut in John Scott Park in Samford or view the booklet online here. \nCreative Samford is working to bring artists together for the common good of Samford and surrounds creative community. \nWe want to make the arts visible and see Samford and surrounds become renowned as a creative place to visit\, do business in and live.
URL:https://wendybailye.com/event/samford-and-surrounds-arts-trail-2022/
ORGANIZER;CN="Creative Samford":MAILTO:trails@creativesamford.com
END:VEVENT
END:VCALENDAR