BEGIN:VCALENDAR
VERSION:2.0
PRODID:-//The Felt Studio - ECPv6.15.20//NONSGML v1.0//EN
CALSCALE:GREGORIAN
METHOD:PUBLISH
X-ORIGINAL-URL:https://wendybailye.com
X-WR-CALDESC:Events for The Felt Studio
REFRESH-INTERVAL;VALUE=DURATION:PT1H
X-Robots-Tag:noindex
X-PUBLISHED-TTL:PT1H
BEGIN:VTIMEZONE
TZID:UTC
BEGIN:STANDARD
TZOFFSETFROM:+0000
TZOFFSETTO:+0000
TZNAME:UTC
DTSTART:20230101T000000
END:STANDARD
END:VTIMEZONE
BEGIN:VEVENT
DTSTART;VALUE=DATE:20240801
DTEND;VALUE=DATE:20240909
DTSTAMP:20260425T225920
CREATED:20221201T223624Z
LAST-MODIFIED:20240616T065002Z
UID:12486-1722470400-1725839999@wendybailye.com
SUMMARY:Online Class 50 Shades of Grey\, Felt! August 1st 2024
DESCRIPTION:My online class 50 Shades of Grey\, Felt! is open for registration 16/06/2024 and begins on the 1st August 2024 \nSpaces are limited! \nWords from one of my past students: \n“I’ve always appreciated the sampling done in workshops\, but now this class has turned me into a dedicated sampler. I’m always happier exploring than planning (fewer expectations that way\, I suppose) and can beat myself up sometimes about being too excited about an idea to think it through properly. It’s increasingly clear though that with more grounding in good technique\, the better the making goes” \n“For a while now I’ve been moving away from using heat and aggressive handling toward the end of fulling\, and this class has confirmed that. It’s remarkable how much more pleasing my finished felt is\, and how easily it comes together\, with cold water and simple rolling alone. And now the process is even more calming for me as well as the felt. Thank you for that reassurance\, and for the immense amount of work and information you have put into this course. It will be an invaluable lifelong resource for me”. L.M
URL:https://wendybailye.com/event/online-class-50-shades-of-grey-felt-july-17th-2023/
ATTACH;FMTTYPE=image/jpeg:https://wendybailye.com/wp-content/uploads/2022/12/1-2.jpg
END:VEVENT
END:VCALENDAR